BEGIN:VCALENDAR
VERSION:2.0
PRODID:-//Emmaus Farmers&#039; Market - ECPv6.15.20//NONSGML v1.0//EN
CALSCALE:GREGORIAN
METHOD:PUBLISH
X-WR-CALNAME:Emmaus Farmers&#039; Market
X-ORIGINAL-URL:https://emmausmarket.com
X-WR-CALDESC:Events for Emmaus Farmers&#039; Market
REFRESH-INTERVAL;VALUE=DURATION:PT1H
X-Robots-Tag:noindex
X-PUBLISHED-TTL:PT1H
BEGIN:VTIMEZONE
TZID:UTC
BEGIN:STANDARD
TZOFFSETFROM:+0000
TZOFFSETTO:+0000
TZNAME:UTC
DTSTART:20230101T000000
END:STANDARD
END:VTIMEZONE
BEGIN:VEVENT
DTSTART;TZID=UTC:20241006T100000
DTEND;TZID=UTC:20241006T130000
DTSTAMP:20260426T015123
CREATED:20240926T033912Z
LAST-MODIFIED:20240926T033912Z
UID:2442-1728208800-1728219600@emmausmarket.com
SUMMARY:Market #23
DESCRIPTION:Live Music: Tavern Tan \nCommunity Table: N/A –> email us to book!
URL:https://emmausmarket.com/event/market-23/
LOCATION:Triangle Park\, Triangle Park\, Emmaus\, PA\, 18049\, United States
END:VEVENT
BEGIN:VEVENT
DTSTART;TZID=UTC:20241008T180000
DTEND;TZID=UTC:20241008T200000
DTSTAMP:20260426T015123
CREATED:20240226T144931Z
LAST-MODIFIED:20240926T034650Z
UID:2324-1728410400-1728417600@emmausmarket.com
SUMMARY:Vendor Meeting #3 of 4
DESCRIPTION:Market Board & Vendor meeting 6pm – ? at Penn State Extension. \nVendors: See email agenda sent in September. \nPotential Vendors: Check back in November to see if we are opening applications\, thank you.
URL:https://emmausmarket.com/event/vendor-meeting-3-of-4-not-yet-confirmed/
LOCATION:Penn State Extension\, 4184 Dorney Park Rd.\, Allentown\, PA\, 18104\, United States
END:VEVENT
BEGIN:VEVENT
DTSTART;TZID=UTC:20241013T100000
DTEND;TZID=UTC:20241013T130000
DTSTAMP:20260426T015123
CREATED:20240926T033959Z
LAST-MODIFIED:20240926T033959Z
UID:2444-1728813600-1728824400@emmausmarket.com
SUMMARY:Market #24
DESCRIPTION:Live Music: Nick Franclik \nCommunity Table: N/A –> email us to book!
URL:https://emmausmarket.com/event/market-24/
LOCATION:Triangle Park\, Triangle Park\, Emmaus\, PA\, 18049\, United States
END:VEVENT
BEGIN:VEVENT
DTSTART;TZID=UTC:20241020T100000
DTEND;TZID=UTC:20241020T130000
DTSTAMP:20260426T015123
CREATED:20240926T034056Z
LAST-MODIFIED:20240926T034056Z
UID:2446-1729418400-1729429200@emmausmarket.com
SUMMARY:Market #25
DESCRIPTION:Live Music: Just So \nCommunity Table: N/A –> email us to book!
URL:https://emmausmarket.com/event/market-25/
LOCATION:Triangle Park\, Triangle Park\, Emmaus\, PA\, 18049\, United States
END:VEVENT
BEGIN:VEVENT
DTSTART;TZID=UTC:20241027T100000
DTEND;TZID=UTC:20241027T130000
DTSTAMP:20260426T015123
CREATED:20240926T034150Z
LAST-MODIFIED:20240926T034150Z
UID:2448-1730023200-1730034000@emmausmarket.com
SUMMARY:Market #26
DESCRIPTION:Live Music: Emmaus Public Singing Society \nCommunity Table: Emmaus Garden Commission
URL:https://emmausmarket.com/event/market-26/
LOCATION:Triangle Park\, Triangle Park\, Emmaus\, PA\, 18049\, United States
END:VEVENT
BEGIN:VEVENT
DTSTART;TZID=UTC:20241103T100000
DTEND;TZID=UTC:20241103T130000
DTSTAMP:20260426T015123
CREATED:20240926T034236Z
LAST-MODIFIED:20240926T034236Z
UID:2450-1730628000-1730638800@emmausmarket.com
SUMMARY:Market #27
DESCRIPTION:Live Music: Kenzie Lynn \nCommunity Table: N/A –> email us to book!
URL:https://emmausmarket.com/event/market-27/
LOCATION:Triangle Park\, Triangle Park\, Emmaus\, PA\, 18049\, United States
END:VEVENT
BEGIN:VEVENT
DTSTART;TZID=UTC:20241110T100000
DTEND;TZID=UTC:20241110T130000
DTSTAMP:20260426T015123
CREATED:20240926T034325Z
LAST-MODIFIED:20240926T034325Z
UID:2452-1731232800-1731243600@emmausmarket.com
SUMMARY:Market #28
DESCRIPTION:Live Music: Twelve String \nCommunity Table: N/A –> email us to book! \n 
URL:https://emmausmarket.com/event/market-28/
LOCATION:Triangle Park\, Triangle Park\, Emmaus\, PA\, 18049\, United States
END:VEVENT
BEGIN:VEVENT
DTSTART;TZID=UTC:20241117T100000
DTEND;TZID=UTC:20241117T130000
DTSTAMP:20260426T015123
CREATED:20240926T034419Z
LAST-MODIFIED:20240926T034419Z
UID:2454-1731837600-1731848400@emmausmarket.com
SUMMARY:Market #29
DESCRIPTION:Live Music: N/A –> email us to book! \nCommunity Table: N/A –> email us to book!
URL:https://emmausmarket.com/event/market-29/
LOCATION:Triangle Park\, Triangle Park\, Emmaus\, PA\, 18049\, United States
END:VEVENT
BEGIN:VEVENT
DTSTART;TZID=UTC:20241124T100000
DTEND;TZID=UTC:20241124T130000
DTSTAMP:20260426T015123
CREATED:20240926T034448Z
LAST-MODIFIED:20240926T034448Z
UID:2456-1732442400-1732453200@emmausmarket.com
SUMMARY:Market #30
DESCRIPTION:Live Music: N/A –> email us to book! \nCommunity Table: N/A –> email us to book!
URL:https://emmausmarket.com/event/market-30/
LOCATION:Triangle Park\, Triangle Park\, Emmaus\, PA\, 18049\, United States
END:VEVENT
BEGIN:VEVENT
DTSTART;TZID=UTC:20241201T100000
DTEND;TZID=UTC:20241201T120000
DTSTAMP:20260426T015123
CREATED:20240926T034840Z
LAST-MODIFIED:20240926T034840Z
UID:2460-1733047200-1733054400@emmausmarket.com
SUMMARY:Winter Market #1
DESCRIPTION:Winter Market outdoors at the Triangle! \nRain OR Shine \n10 AM – 12 PM
URL:https://emmausmarket.com/event/winter-market-1-2/
LOCATION:Triangle Park\, Triangle Park\, Emmaus\, PA\, 18049\, United States
END:VEVENT
BEGIN:VEVENT
DTSTART;TZID=UTC:20241208T100000
DTEND;TZID=UTC:20241208T120000
DTSTAMP:20260426T015123
CREATED:20240926T034944Z
LAST-MODIFIED:20240926T034944Z
UID:2462-1733652000-1733659200@emmausmarket.com
SUMMARY:Winter Market #2
DESCRIPTION:Winter Market outdoors at the Triangle! \nRain OR Shine \n10 AM – 12 PM
URL:https://emmausmarket.com/event/winter-market-2-3/
LOCATION:Triangle Park\, Triangle Park\, Emmaus\, PA\, 18049\, United States
END:VEVENT
BEGIN:VEVENT
DTSTART;TZID=UTC:20241210T180000
DTEND;TZID=UTC:20241210T200000
DTSTAMP:20260426T015123
CREATED:20240226T145042Z
LAST-MODIFIED:20240926T034732Z
UID:2326-1733853600-1733860800@emmausmarket.com
SUMMARY:Vendor Meeting #4 of 4
DESCRIPTION:Market Board & Vendor meeting 6pm – ? at Penn State Extension. \nIf you would like to apply to join the upcoming regular season please visit our Contact Page to first read our Bylaws and Rules & Regulations. If after reading you are interested in an application\, please email info@emmausmaket.com confirming you have read all market details and we will be in touch.
URL:https://emmausmarket.com/event/vendor-meeting-4-of-4-not-yet-confirmed/
LOCATION:Penn State Extension\, 4184 Dorney Park Rd.\, Allentown\, PA\, 18104\, United States
END:VEVENT
BEGIN:VEVENT
DTSTART;TZID=UTC:20241215T100000
DTEND;TZID=UTC:20241215T120000
DTSTAMP:20260426T015123
CREATED:20240926T035016Z
LAST-MODIFIED:20240926T035016Z
UID:2464-1734256800-1734264000@emmausmarket.com
SUMMARY:Winter Market #3
DESCRIPTION:Winter Market outdoors at the Triangle! \nRain OR Shine \n10 AM – 12 PM
URL:https://emmausmarket.com/event/winter-market-3-3/
LOCATION:Triangle Park\, Triangle Park\, Emmaus\, PA\, 18049\, United States
END:VEVENT
BEGIN:VEVENT
DTSTART;TZID=UTC:20241222T100000
DTEND;TZID=UTC:20241222T120000
DTSTAMP:20260426T015123
CREATED:20240926T035048Z
LAST-MODIFIED:20240926T035048Z
UID:2466-1734861600-1734868800@emmausmarket.com
SUMMARY:Winter Market #4
DESCRIPTION:Winter Market outdoors at the Triangle! \nRain OR Shine \n10 AM – 12 PM
URL:https://emmausmarket.com/event/winter-market-4-3/
LOCATION:Triangle Park\, Triangle Park\, Emmaus\, PA\, 18049\, United States
END:VEVENT
BEGIN:VEVENT
DTSTART;TZID=UTC:20241229T100000
DTEND;TZID=UTC:20241229T120000
DTSTAMP:20260426T015123
CREATED:20240926T035122Z
LAST-MODIFIED:20240926T035122Z
UID:2468-1735466400-1735473600@emmausmarket.com
SUMMARY:Winter Market #5
DESCRIPTION:Winter Market outdoors at the Triangle! \nRain OR Shine \n10 AM – 12 PM
URL:https://emmausmarket.com/event/winter-market-5-3/
LOCATION:Triangle Park\, Triangle Park\, Emmaus\, PA\, 18049\, United States
END:VEVENT
BEGIN:VEVENT
DTSTART;TZID=UTC:20250112T100000
DTEND;TZID=UTC:20250112T120000
DTSTAMP:20260426T015123
CREATED:20240926T035216Z
LAST-MODIFIED:20240926T035216Z
UID:2470-1736676000-1736683200@emmausmarket.com
SUMMARY:Winter Market #6
DESCRIPTION:Winter Market outdoors at the Triangle! \n2nd & 4th Sundays January-April \nRain OR Shine \n10 AM – 12 PM
URL:https://emmausmarket.com/event/winter-market-6-3/
LOCATION:Triangle Park\, Triangle Park\, Emmaus\, PA\, 18049\, United States
END:VEVENT
BEGIN:VEVENT
DTSTART;TZID=UTC:20250114T180000
DTEND;TZID=UTC:20250114T200000
DTSTAMP:20260426T015123
CREATED:20250304T002656Z
LAST-MODIFIED:20250304T002656Z
UID:2524-1736877600-1736884800@emmausmarket.com
SUMMARY:Vendor Meeting #1
DESCRIPTION:Market Board & Vendor meeting 6pm – 8pm \n***NEW LOCATION*** \n905 Harrison Street\, Allentown\, PA. 18103 SUITE 120 \nIf you would like to apply to join the upcoming regular season please visit our Contact Page to first read our Bylaws and Rules & Regulations. If after reading you are interested in an application\, please email info@emmausmaket.com confirming you have read all market details and we will be in touch. Per our Bylaws\, potential vendors may apply up to 2 weeks before scheduled meetings. Deadline is: DECEMBER 31ST.
URL:https://emmausmarket.com/event/vendor-meeting-1-2/
LOCATION:PA
END:VEVENT
BEGIN:VEVENT
DTSTART;TZID=UTC:20250126T100000
DTEND;TZID=UTC:20250126T120000
DTSTAMP:20260426T015123
CREATED:20240926T035245Z
LAST-MODIFIED:20240926T035245Z
UID:2472-1737885600-1737892800@emmausmarket.com
SUMMARY:Winter Market #7
DESCRIPTION:Winter Market outdoors at the Triangle! \n2nd & 4th Sundays January-April \nRain OR Shine \n10 AM – 12 PM
URL:https://emmausmarket.com/event/winter-market-7-3/
LOCATION:Triangle Park\, Triangle Park\, Emmaus\, PA\, 18049\, United States
END:VEVENT
BEGIN:VEVENT
DTSTART;TZID=UTC:20250209T100000
DTEND;TZID=UTC:20250209T120000
DTSTAMP:20260426T015123
CREATED:20240926T035313Z
LAST-MODIFIED:20240926T035313Z
UID:2474-1739095200-1739102400@emmausmarket.com
SUMMARY:Winter Market #8
DESCRIPTION:Winter Market outdoors at the Triangle! \n2nd & 4th Sundays January-April \nRain OR Shine \n10 AM – 12 PM
URL:https://emmausmarket.com/event/winter-market-8-4/
LOCATION:Triangle Park\, Triangle Park\, Emmaus\, PA\, 18049\, United States
END:VEVENT
BEGIN:VEVENT
DTSTART;TZID=UTC:20250223T100000
DTEND;TZID=UTC:20250223T120000
DTSTAMP:20260426T015123
CREATED:20240926T035347Z
LAST-MODIFIED:20240926T035347Z
UID:2476-1740304800-1740312000@emmausmarket.com
SUMMARY:Winter Market #9
DESCRIPTION:Winter Market outdoors at the Triangle! \n2nd & 4th Sundays January-April \nRain OR Shine \n10 AM – 12 PM
URL:https://emmausmarket.com/event/winter-market-9-3/
LOCATION:Triangle Park\, Triangle Park\, Emmaus\, PA\, 18049\, United States
END:VEVENT
BEGIN:VEVENT
DTSTART;TZID=UTC:20250309T100000
DTEND;TZID=UTC:20250309T120000
DTSTAMP:20260426T015123
CREATED:20240926T035419Z
LAST-MODIFIED:20240926T035419Z
UID:2478-1741514400-1741521600@emmausmarket.com
SUMMARY:Winter Market #10
DESCRIPTION:Winter Market outdoors at the Triangle! \n2nd & 4th Sundays January-April \nRain OR Shine \n10 AM – 12 PM
URL:https://emmausmarket.com/event/winter-market-10-3/
LOCATION:Triangle Park\, Triangle Park\, Emmaus\, PA\, 18049\, United States
END:VEVENT
BEGIN:VEVENT
DTSTART;TZID=UTC:20250311T180000
DTEND;TZID=UTC:20250311T200000
DTSTAMP:20260426T015123
CREATED:20250304T002457Z
LAST-MODIFIED:20250304T002457Z
UID:2522-1741716000-1741723200@emmausmarket.com
SUMMARY:Vendor Meeting #2
DESCRIPTION:Market Board & Vendor meeting 6pm – 8pm \n***NEW LOCATION*** \n905 Harrison Street\, Allentown\, PA. 18103 SUITE 120 \nIf you would like to apply to join the upcoming regular season please visit our Contact Page to first read our Bylaws and Rules & Regulations. Per our Bylaws\, potential vendors may apply up to 2 weeks before scheduled meetings. Deadline is: FEBRUARY 25th. If after reading you are interested in an application\, please email info@emmausmaket.com confirming you have read all market details and we will be in touch.
URL:https://emmausmarket.com/event/vendor-meeting-2-2/
LOCATION:PA
END:VEVENT
BEGIN:VEVENT
DTSTART;TZID=UTC:20250323T100000
DTEND;TZID=UTC:20250323T120000
DTSTAMP:20260426T015123
CREATED:20240926T035455Z
LAST-MODIFIED:20240926T035455Z
UID:2480-1742724000-1742731200@emmausmarket.com
SUMMARY:Winter Market #11
DESCRIPTION:Winter Market outdoors at the Triangle! \n2nd & 4th Sundays January-April \nRain OR Shine \n10 AM – 12 PM
URL:https://emmausmarket.com/event/winter-market-11-3/
LOCATION:Triangle Park\, Triangle Park\, Emmaus\, PA\, 18049\, United States
END:VEVENT
BEGIN:VEVENT
DTSTART;TZID=UTC:20250413T100000
DTEND;TZID=UTC:20250413T120000
DTSTAMP:20260426T015123
CREATED:20240926T035523Z
LAST-MODIFIED:20240926T035523Z
UID:2482-1744538400-1744545600@emmausmarket.com
SUMMARY:Winter Market #12
DESCRIPTION:Winter Market outdoors at the Triangle! \n2nd & 4th Sundays January-April \nRain OR Shine \n10 AM – 12 PM
URL:https://emmausmarket.com/event/winter-market-12-2/
LOCATION:Triangle Park\, Triangle Park\, Emmaus\, PA\, 18049\, United States
END:VEVENT
BEGIN:VEVENT
DTSTART;TZID=UTC:20250427T100000
DTEND;TZID=UTC:20250427T120000
DTSTAMP:20260426T015123
CREATED:20240926T035631Z
LAST-MODIFIED:20240926T035631Z
UID:2484-1745748000-1745755200@emmausmarket.com
SUMMARY:Winter Market #13
DESCRIPTION:Winter Market outdoors at the Triangle! \n2nd & 4th Sundays January – April \nRain\, Snow or Shine \n10am – 12noon
URL:https://emmausmarket.com/event/winter-market-13-2/
LOCATION:Triangle Park\, Triangle Park\, Emmaus\, PA\, 18049\, United States
END:VEVENT
BEGIN:VEVENT
DTSTART;TZID=UTC:20250504T100000
DTEND;TZID=UTC:20250504T130000
DTSTAMP:20260426T015123
CREATED:20240926T035738Z
LAST-MODIFIED:20240926T035738Z
UID:2486-1746352800-1746363600@emmausmarket.com
SUMMARY:OPENING DAY\, Market #1
DESCRIPTION:It’s opening day of our regular season at 10am! \nStay Tuned for more details on our 22nd season as we get closer to the date!
URL:https://emmausmarket.com/event/opening-day-market-1/
LOCATION:Triangle Park\, Triangle Park\, Emmaus\, PA\, 18049\, United States
END:VEVENT
BEGIN:VEVENT
DTSTART;TZID=UTC:20251209T180000
DTEND;TZID=UTC:20251209T200000
DTSTAMP:20260426T015123
CREATED:20250304T003021Z
LAST-MODIFIED:20250318T030400Z
UID:2528-1765303200-1765310400@emmausmarket.com
SUMMARY:Vendor Meeting #3
DESCRIPTION:Market Board & Vendor meeting 6pm – 8pm \n***NEW LOCATION*** \n905 Harrison Street\, Allentown\, PA. 18103 SUITE 120 \nIf you would like to apply to join the upcoming regular season please visit our Contact Page to first read our Bylaws and Rules & Regulations. If after reading you are interested in an application\, please email info@emmausmaket.com confirming you have read all market details and we will be in touch. Per our Bylaws\, potential vendors may apply up to 2 weeks before scheduled meetings. Deadline is:  NOVEMBER 25TH
URL:https://emmausmarket.com/event/vendor-meeting-4-2/
LOCATION:PA
END:VEVENT
BEGIN:VEVENT
DTSTART;TZID=UTC:20260111T100000
DTEND;TZID=UTC:20260111T120000
DTSTAMP:20260426T015123
CREATED:20260225T053307Z
LAST-MODIFIED:20260225T053307Z
UID:2734-1768125600-1768132800@emmausmarket.com
SUMMARY:Winter Market
DESCRIPTION:Winter Market at the Triangle! \n10am-12noon Rain OR Shine
URL:https://emmausmarket.com/event/winter-market-22/
LOCATION:Triangle Park\, Triangle Park\, Emmaus\, PA\, 18049\, United States
END:VEVENT
BEGIN:VEVENT
DTSTART;TZID=UTC:20260125T100000
DTEND;TZID=UTC:20260125T120000
DTSTAMP:20260426T015123
CREATED:20260225T053419Z
LAST-MODIFIED:20260225T053419Z
UID:2736-1769335200-1769342400@emmausmarket.com
SUMMARY:Winter Market CANCELED
DESCRIPTION:Today’s winter market is CANCELED due to the high amount of snow. The Emmaus Triangle and Fourth Street are snow emergency routes and we were simply unable to have a market due to the extreme weather. 🙁
URL:https://emmausmarket.com/event/winter-market-canceled-2/
LOCATION:Triangle Park\, Triangle Park\, Emmaus\, PA\, 18049\, United States
END:VEVENT
BEGIN:VEVENT
DTSTART;TZID=UTC:20260208T100000
DTEND;TZID=UTC:20260208T120000
DTSTAMP:20260426T015123
CREATED:20260225T053238Z
LAST-MODIFIED:20260225T053238Z
UID:2732-1770544800-1770552000@emmausmarket.com
SUMMARY:Winter Market
DESCRIPTION:Winter Market at the Triangle! \n10am-12noon Rain OR Shine
URL:https://emmausmarket.com/event/winter-market-21/
LOCATION:Triangle Park\, Triangle Park\, Emmaus\, PA\, 18049\, United States
END:VEVENT
END:VCALENDAR