BEGIN:VCALENDAR
VERSION:2.0
PRODID:-//Emmaus Farmers&#039; Market - ECPv6.15.20//NONSGML v1.0//EN
CALSCALE:GREGORIAN
METHOD:PUBLISH
X-WR-CALNAME:Emmaus Farmers&#039; Market
X-ORIGINAL-URL:https://emmausmarket.com
X-WR-CALDESC:Events for Emmaus Farmers&#039; Market
REFRESH-INTERVAL;VALUE=DURATION:PT1H
X-Robots-Tag:noindex
X-PUBLISHED-TTL:PT1H
BEGIN:VTIMEZONE
TZID:UTC
BEGIN:STANDARD
TZOFFSETFROM:+0000
TZOFFSETTO:+0000
TZNAME:UTC
DTSTART:20240101T000000
END:STANDARD
END:VTIMEZONE
BEGIN:VEVENT
DTSTART;TZID=UTC:20251209T180000
DTEND;TZID=UTC:20251209T200000
DTSTAMP:20260425T121320
CREATED:20250304T003021Z
LAST-MODIFIED:20250318T030400Z
UID:2528-1765303200-1765310400@emmausmarket.com
SUMMARY:Vendor Meeting #3
DESCRIPTION:Market Board & Vendor meeting 6pm – 8pm \n***NEW LOCATION*** \n905 Harrison Street\, Allentown\, PA. 18103 SUITE 120 \nIf you would like to apply to join the upcoming regular season please visit our Contact Page to first read our Bylaws and Rules & Regulations. If after reading you are interested in an application\, please email info@emmausmaket.com confirming you have read all market details and we will be in touch. Per our Bylaws\, potential vendors may apply up to 2 weeks before scheduled meetings. Deadline is:  NOVEMBER 25TH
URL:https://emmausmarket.com/event/vendor-meeting-4-2/
LOCATION:PA
END:VEVENT
BEGIN:VEVENT
DTSTART;TZID=UTC:20260111T100000
DTEND;TZID=UTC:20260111T120000
DTSTAMP:20260425T121320
CREATED:20260225T053307Z
LAST-MODIFIED:20260225T053307Z
UID:2734-1768125600-1768132800@emmausmarket.com
SUMMARY:Winter Market
DESCRIPTION:Winter Market at the Triangle! \n10am-12noon Rain OR Shine
URL:https://emmausmarket.com/event/winter-market-22/
LOCATION:Triangle Park\, Triangle Park\, Emmaus\, PA\, 18049\, United States
END:VEVENT
BEGIN:VEVENT
DTSTART;TZID=UTC:20260125T100000
DTEND;TZID=UTC:20260125T120000
DTSTAMP:20260425T121320
CREATED:20260225T053419Z
LAST-MODIFIED:20260225T053419Z
UID:2736-1769335200-1769342400@emmausmarket.com
SUMMARY:Winter Market CANCELED
DESCRIPTION:Today’s winter market is CANCELED due to the high amount of snow. The Emmaus Triangle and Fourth Street are snow emergency routes and we were simply unable to have a market due to the extreme weather. 🙁
URL:https://emmausmarket.com/event/winter-market-canceled-2/
LOCATION:Triangle Park\, Triangle Park\, Emmaus\, PA\, 18049\, United States
END:VEVENT
BEGIN:VEVENT
DTSTART;TZID=UTC:20260208T100000
DTEND;TZID=UTC:20260208T120000
DTSTAMP:20260425T121320
CREATED:20260225T053238Z
LAST-MODIFIED:20260225T053238Z
UID:2732-1770544800-1770552000@emmausmarket.com
SUMMARY:Winter Market
DESCRIPTION:Winter Market at the Triangle! \n10am-12noon Rain OR Shine
URL:https://emmausmarket.com/event/winter-market-21/
LOCATION:Triangle Park\, Triangle Park\, Emmaus\, PA\, 18049\, United States
END:VEVENT
BEGIN:VEVENT
DTSTART;TZID=UTC:20260222T100000
DTEND;TZID=UTC:20260222T120000
DTSTAMP:20260425T121320
CREATED:20260225T053202Z
LAST-MODIFIED:20260225T053202Z
UID:2730-1771754400-1771761600@emmausmarket.com
SUMMARY:Winter Market CANCELED
DESCRIPTION:Due to forecasted snow and emergency snow routes\, the market is canceled. 🙁
URL:https://emmausmarket.com/event/winter-market-canceled/
LOCATION:Triangle Park\, Triangle Park\, Emmaus\, PA\, 18049\, United States
END:VEVENT
BEGIN:VEVENT
DTSTART;TZID=UTC:20260308T100000
DTEND;TZID=UTC:20260308T120000
DTSTAMP:20260425T121320
CREATED:20260225T052844Z
LAST-MODIFIED:20260225T052844Z
UID:2720-1772964000-1772971200@emmausmarket.com
SUMMARY:Winter Market
DESCRIPTION:Winter Market at the Triangle! \n10am-12noon Rain OR Shine
URL:https://emmausmarket.com/event/winter-market-17/
LOCATION:Triangle Park\, Triangle Park\, Emmaus\, PA\, 18049\, United States
END:VEVENT
BEGIN:VEVENT
DTSTART;TZID=UTC:20260310T180000
DTEND;TZID=UTC:20260310T200000
DTSTAMP:20260425T121320
CREATED:20260225T053959Z
LAST-MODIFIED:20260225T053959Z
UID:2739-1773165600-1773172800@emmausmarket.com
SUMMARY:Vendor Meeting #2
DESCRIPTION:Market Board & Vendor meeting 6pm – 8pm \n***NEW LOCATION*** 420 South 10th Street\, Emmaus PA (across from Emmaus Theatre) \nDO NOT PARK IN BOROUGH LOT. On street parking is available as well as parking in the triangle. \nIf you would like to apply to join the upcoming regular season\, applications must be submitted by 2/22/26. Current applications are open for GOAT CHEESE VENDOR only.
URL:https://emmausmarket.com/event/vendor-meeting-2-3/
LOCATION:Emmaus Borough\, 420 South 10th Street\, Emmaus\, PA\, 18049
END:VEVENT
BEGIN:VEVENT
DTSTART;TZID=UTC:20260322T100000
DTEND;TZID=UTC:20260322T120000
DTSTAMP:20260425T121320
CREATED:20260225T052917Z
LAST-MODIFIED:20260225T052917Z
UID:2722-1774173600-1774180800@emmausmarket.com
SUMMARY:Winter Market
DESCRIPTION:Winter Market at the Triangle! \n10am-12noon Rain OR Shine
URL:https://emmausmarket.com/event/winter-market-18/
LOCATION:Triangle Park\, Triangle Park\, Emmaus\, PA\, 18049\, United States
END:VEVENT
BEGIN:VEVENT
DTSTART;TZID=UTC:20260412T100000
DTEND;TZID=UTC:20260412T120000
DTSTAMP:20260425T121320
CREATED:20260225T052944Z
LAST-MODIFIED:20260225T052944Z
UID:2724-1775988000-1775995200@emmausmarket.com
SUMMARY:Winter Market
DESCRIPTION:Winter Market at the Triangle! \n10am-12noon Rain OR Shine
URL:https://emmausmarket.com/event/winter-market-19/
LOCATION:Triangle Park\, Triangle Park\, Emmaus\, PA\, 18049\, United States
END:VEVENT
BEGIN:VEVENT
DTSTART;TZID=UTC:20260426T100000
DTEND;TZID=UTC:20260426T120000
DTSTAMP:20260425T121320
CREATED:20260225T053012Z
LAST-MODIFIED:20260225T053012Z
UID:2726-1777197600-1777204800@emmausmarket.com
SUMMARY:Winter Market
DESCRIPTION:Winter Market at the Triangle! \n10am-12noon Rain OR Shine
URL:https://emmausmarket.com/event/winter-market-20/
LOCATION:Triangle Park\, Triangle Park\, Emmaus\, PA\, 18049\, United States
END:VEVENT
BEGIN:VEVENT
DTSTART;TZID=UTC:20260503T100000
DTEND;TZID=UTC:20260503T130000
DTSTAMP:20260425T121320
CREATED:20260225T053116Z
LAST-MODIFIED:20260225T053116Z
UID:2728-1777802400-1777813200@emmausmarket.com
SUMMARY:Opening day of our 23rd Season!
DESCRIPTION:It’s opening day! Check back for details about this year’s first day of our 23rd season in Emmaus.
URL:https://emmausmarket.com/event/opening-day-of-our-23rd-season/
LOCATION:Triangle Park\, Triangle Park\, Emmaus\, PA\, 18049\, United States
END:VEVENT
END:VCALENDAR