BEGIN:VCALENDAR
VERSION:2.0
PRODID:-//Emmaus Farmers&#039; Market - ECPv6.15.20//NONSGML v1.0//EN
CALSCALE:GREGORIAN
METHOD:PUBLISH
X-WR-CALNAME:Emmaus Farmers&#039; Market
X-ORIGINAL-URL:https://emmausmarket.com
X-WR-CALDESC:Events for Emmaus Farmers&#039; Market
REFRESH-INTERVAL;VALUE=DURATION:PT1H
X-Robots-Tag:noindex
X-PUBLISHED-TTL:PT1H
BEGIN:VTIMEZONE
TZID:UTC
BEGIN:STANDARD
TZOFFSETFROM:+0000
TZOFFSETTO:+0000
TZNAME:UTC
DTSTART:20210101T000000
END:STANDARD
END:VTIMEZONE
BEGIN:VEVENT
DTSTART;TZID=UTC:20230611T100000
DTEND;TZID=UTC:20230611T130000
DTSTAMP:20260426T015438
CREATED:20230528T035418Z
LAST-MODIFIED:20230528T035418Z
UID:2191-1686477600-1686488400@emmausmarket.com
SUMMARY:Market Day #6
DESCRIPTION:Live Music with Kristen Morgenstern 10am-1pm! \nOver 29 Vendors Scheduled!
URL:https://emmausmarket.com/event/market-day-6-2/
LOCATION:Triangle Park\, Triangle Park\, Emmaus\, PA\, 18049\, United States
END:VEVENT
BEGIN:VEVENT
DTSTART;TZID=UTC:20230604T100000
DTEND;TZID=UTC:20230604T130000
DTSTAMP:20260426T015438
CREATED:20230528T035133Z
LAST-MODIFIED:20230528T035133Z
UID:2189-1685872800-1685883600@emmausmarket.com
SUMMARY:Market Day #5
DESCRIPTION:Live Music with Emmaus Public Singing Society 10am-1pm \nEmmaus Art Commission Creation Station 10am-1pm inside the Triangle \nOver 29 Vendor Scheduled!
URL:https://emmausmarket.com/event/market-day-5-2/
LOCATION:Triangle Park\, Triangle Park\, Emmaus\, PA\, 18049\, United States
END:VEVENT
BEGIN:VEVENT
DTSTART;TZID=UTC:20230528T100000
DTEND;TZID=UTC:20230528T130000
DTSTAMP:20260426T015438
CREATED:20230528T034939Z
LAST-MODIFIED:20230528T034939Z
UID:2187-1685268000-1685278800@emmausmarket.com
SUMMARY:Market Day #4
DESCRIPTION:Live Music with Real West 10am-1pm \nStory Time with Emmaus Public Library 12pm-1pm. \nFull Lineup of Vendors schedule this Sunday – 30 Vendors in total!
URL:https://emmausmarket.com/event/market-day-4-2/
LOCATION:Triangle Park\, Triangle Park\, Emmaus\, PA\, 18049\, United States
END:VEVENT
BEGIN:VEVENT
DTSTART;TZID=UTC:20230521T100000
DTEND;TZID=UTC:20230521T130000
DTSTAMP:20260426T015438
CREATED:20230528T034649Z
LAST-MODIFIED:20230528T034649Z
UID:2185-1684663200-1684674000@emmausmarket.com
SUMMARY:Market Day #3
DESCRIPTION:Live Music with Tavern Tan \n28 Vendors Scheduled!
URL:https://emmausmarket.com/event/market-day-3-2/
LOCATION:Triangle Park\, Triangle Park\, Emmaus\, PA\, 18049\, United States
END:VEVENT
BEGIN:VEVENT
DTSTART;TZID=UTC:20230514T100000
DTEND;TZID=UTC:20230514T130000
DTSTAMP:20260426T015438
CREATED:20230528T034529Z
LAST-MODIFIED:20230528T034529Z
UID:2183-1684058400-1684069200@emmausmarket.com
SUMMARY:Market Day #2
DESCRIPTION:
URL:https://emmausmarket.com/event/market-day-2-2/
LOCATION:Triangle Park\, Triangle Park\, Emmaus\, PA\, 18049\, United States
END:VEVENT
BEGIN:VEVENT
DTSTART;TZID=UTC:20230507T100000
DTEND;TZID=UTC:20230507T130000
DTSTAMP:20260426T015438
CREATED:20230427T174543Z
LAST-MODIFIED:20230427T174543Z
UID:2095-1683453600-1683464400@emmausmarket.com
SUMMARY:Opening Day!
DESCRIPTION:Join us for Opening Day of our regular season\, celebrating our 20th Anniversary Season! \n\nRibbon Cutting at 9:45 before market opens\nLive Music with Emmaus Public Singing Society\nIntroducing our season of 33 vendors\n\nMarket is Rain or Shine at the Emmaus Triangle EVERY SUNDAY through November from 10am-1pm! \nOn street parking available and parking on Third Street at the Schantz Funeral Home Parking Lot.
URL:https://emmausmarket.com/event/opening-day/
LOCATION:Triangle Park\, Triangle Park\, Emmaus\, PA\, 18049\, United States
ATTACH;FMTTYPE=image/png:https://emmausmarket.com/wp-content/uploads/2023/04/opening-day.png
END:VEVENT
BEGIN:VEVENT
DTSTART;TZID=UTC:20230423T100000
DTEND;TZID=UTC:20230423T120000
DTSTAMP:20260426T015438
CREATED:20221002T043401Z
LAST-MODIFIED:20221002T043401Z
UID:1991-1682244000-1682251200@emmausmarket.com
SUMMARY:LAST WINTER MARKET before Opening Day!
DESCRIPTION:
URL:https://emmausmarket.com/event/last-winter-market-before-opening-day/
LOCATION:Triangle Park\, Triangle Park\, Emmaus\, PA\, 18049\, United States
END:VEVENT
BEGIN:VEVENT
DTSTART;TZID=UTC:20230409T100000
DTEND;TZID=UTC:20230409T120000
DTSTAMP:20260426T015438
CREATED:20221002T043310Z
LAST-MODIFIED:20221002T043310Z
UID:1989-1681034400-1681041600@emmausmarket.com
SUMMARY:WINTER MARKET
DESCRIPTION:
URL:https://emmausmarket.com/event/winter-market-16/
LOCATION:Triangle Park\, Triangle Park\, Emmaus\, PA\, 18049\, United States
END:VEVENT
BEGIN:VEVENT
DTSTART;TZID=UTC:20230326T100000
DTEND;TZID=UTC:20230326T120000
DTSTAMP:20260426T015438
CREATED:20221002T043239Z
LAST-MODIFIED:20221002T043239Z
UID:1987-1679824800-1679832000@emmausmarket.com
SUMMARY:WINTER MARKET
DESCRIPTION:
URL:https://emmausmarket.com/event/winter-market-15/
LOCATION:Triangle Park\, Triangle Park\, Emmaus\, PA\, 18049\, United States
END:VEVENT
BEGIN:VEVENT
DTSTART;TZID=UTC:20230314T060000
DTEND;TZID=UTC:20230314T210000
DTSTAMP:20260426T015438
CREATED:20221102T144353Z
LAST-MODIFIED:20221102T144353Z
UID:2007-1678773600-1678827600@emmausmarket.com
SUMMARY:Vendor Meeting #2
DESCRIPTION:Market Board & Vendor meeting 6pm-? at Penn State Extension. \nIf you would like to apply to join the upcoming season please visit our Contact Page to fill our an application. Please submit through email at info@emmausmaket.com. \nAll interested vendor applications are due by FEBRUARY 28\, 2023.
URL:https://emmausmarket.com/event/vendor-meeting-2/
LOCATION:Penn State Extension\, 4184 Dorney Park Rd.\, Allentown\, PA\, 18104\, United States
END:VEVENT
BEGIN:VEVENT
DTSTART;TZID=UTC:20230312T100000
DTEND;TZID=UTC:20230312T120000
DTSTAMP:20260426T015438
CREATED:20221002T043210Z
LAST-MODIFIED:20221002T043210Z
UID:1985-1678615200-1678622400@emmausmarket.com
SUMMARY:WINTER MARKET
DESCRIPTION:
URL:https://emmausmarket.com/event/winter-market-14/
LOCATION:Triangle Park\, Triangle Park\, Emmaus\, PA\, 18049\, United States
END:VEVENT
BEGIN:VEVENT
DTSTART;TZID=UTC:20230226T100000
DTEND;TZID=UTC:20230226T120000
DTSTAMP:20260426T015438
CREATED:20221002T043126Z
LAST-MODIFIED:20221002T043126Z
UID:1983-1677405600-1677412800@emmausmarket.com
SUMMARY:WINTER MARKET
DESCRIPTION:
URL:https://emmausmarket.com/event/winter-market-13/
LOCATION:Triangle Park\, Triangle Park\, Emmaus\, PA\, 18049\, United States
END:VEVENT
BEGIN:VEVENT
DTSTART;TZID=UTC:20230212T100000
DTEND;TZID=UTC:20230212T120000
DTSTAMP:20260426T015438
CREATED:20221002T043045Z
LAST-MODIFIED:20221002T043045Z
UID:1981-1676196000-1676203200@emmausmarket.com
SUMMARY:WINTER MARKET
DESCRIPTION:
URL:https://emmausmarket.com/event/winter-market-12/
LOCATION:Triangle Park\, Triangle Park\, Emmaus\, PA\, 18049\, United States
END:VEVENT
BEGIN:VEVENT
DTSTART;TZID=UTC:20230122T100000
DTEND;TZID=UTC:20230122T120000
DTSTAMP:20260426T015438
CREATED:20221002T043011Z
LAST-MODIFIED:20221002T043011Z
UID:1979-1674381600-1674388800@emmausmarket.com
SUMMARY:WINTER MARKET
DESCRIPTION:
URL:https://emmausmarket.com/event/winter-market-11/
LOCATION:Triangle Park\, Triangle Park\, Emmaus\, PA\, 18049\, United States
END:VEVENT
BEGIN:VEVENT
DTSTART;TZID=UTC:20230110T180000
DTEND;TZID=UTC:20230110T210000
DTSTAMP:20260426T015438
CREATED:20221102T143742Z
LAST-MODIFIED:20221102T143742Z
UID:2005-1673373600-1673384400@emmausmarket.com
SUMMARY:Vendor Meeting #1
DESCRIPTION:Market Board & Vendor meeting 6pm-? at Penn State Extension. \nIf you would like to apply to join the upcoming season please visit our Contact Page to fill our an application. Please submit through email at info@emmausmaket.com. \nAll interested vendor applications are due by DECEMBER 27\, 2022.
URL:https://emmausmarket.com/event/vendor-meeting-1/
LOCATION:Penn State Extension\, 4184 Dorney Park Rd.\, Allentown\, PA\, 18104\, United States
END:VEVENT
BEGIN:VEVENT
DTSTART;TZID=UTC:20230108T100000
DTEND;TZID=UTC:20230108T120000
DTSTAMP:20260426T015438
CREATED:20221002T042942Z
LAST-MODIFIED:20221002T042942Z
UID:1977-1673172000-1673179200@emmausmarket.com
SUMMARY:WINTER MARKET
DESCRIPTION:
URL:https://emmausmarket.com/event/winter-market/
LOCATION:Triangle Park\, Triangle Park\, Emmaus\, PA\, 18049\, United States
END:VEVENT
BEGIN:VEVENT
DTSTART;VALUE=DATE:20221225
DTEND;VALUE=DATE:20221226
DTSTAMP:20260426T015438
CREATED:20221002T042813Z
LAST-MODIFIED:20221002T042813Z
UID:1975-1671926400-1672012799@emmausmarket.com
SUMMARY:CLOSED
DESCRIPTION:
URL:https://emmausmarket.com/event/closed/
LOCATION:PA
END:VEVENT
BEGIN:VEVENT
DTSTART;TZID=UTC:20221218T100000
DTEND;TZID=UTC:20221218T120000
DTSTAMP:20260426T015438
CREATED:20221102T142759Z
LAST-MODIFIED:20221102T142759Z
UID:2000-1671357600-1671364800@emmausmarket.com
SUMMARY:December WINTER MARKET
DESCRIPTION:Join us for a regular sized market EVERY SUNDAY 10am – 12noon in December (Closed Christmas)! \nHoliday Live Music with EMMAUS PUBLIC SINGING SOCIETY !! \nHoliday market merch for sale. Email us to pre order info@emmausmarket.com
URL:https://emmausmarket.com/event/december-winter-market-3/
LOCATION:Triangle Park\, Triangle Park\, Emmaus\, PA\, 18049\, United States
ATTACH;FMTTYPE=image/jpeg:https://emmausmarket.com/wp-content/uploads/2022/11/Dechours.jpg
END:VEVENT
BEGIN:VEVENT
DTSTART;TZID=UTC:20221213T180000
DTEND;TZID=UTC:20221213T210000
DTSTAMP:20260426T015438
CREATED:20221102T143306Z
LAST-MODIFIED:20221102T145231Z
UID:2002-1670954400-1670965200@emmausmarket.com
SUMMARY:Vendor Meeting #4
DESCRIPTION:Market Board & Vendor meeting 6pm-? at Penn State Extension. \nIf you would like to apply to join the upcoming season please visit our Contact Page to fill our an application. Please submit through email at info@emmausmaket.com. \nAll interested vendor applications are due by NOVEMBER 29\, 2022.
URL:https://emmausmarket.com/event/vendor-board-meeting/
LOCATION:Penn State Extension\, 4184 Dorney Park Rd.\, Allentown\, PA\, 18104\, United States
END:VEVENT
BEGIN:VEVENT
DTSTART;TZID=UTC:20221211T100000
DTEND;TZID=UTC:20221211T120000
DTSTAMP:20260426T015438
CREATED:20221102T142658Z
LAST-MODIFIED:20221102T142658Z
UID:1998-1670752800-1670760000@emmausmarket.com
SUMMARY:December WINTER MARKET
DESCRIPTION:Join us for a regular sized market EVERY SUNDAY 10am – 12noon in December (Closed Christmas)! \nLive Music with TBD \nHoliday market merch for sale. Email us to pre order info@emmausmarket.com
URL:https://emmausmarket.com/event/december-winter-market-2/
LOCATION:Triangle Park\, Triangle Park\, Emmaus\, PA\, 18049\, United States
ATTACH;FMTTYPE=image/jpeg:https://emmausmarket.com/wp-content/uploads/2022/11/Dechours.jpg
END:VEVENT
BEGIN:VEVENT
DTSTART;TZID=UTC:20221204T100000
DTEND;TZID=UTC:20221204T120000
DTSTAMP:20260426T015438
CREATED:20221102T142553Z
LAST-MODIFIED:20221102T142553Z
UID:1995-1670148000-1670155200@emmausmarket.com
SUMMARY:December WINTER MARKET
DESCRIPTION:Join us for a regular sized market EVERY SUNDAY 10am – 12noon in December (Closed Christmas)! \nLive Music with TBD \nHoliday market merch for sale. Email us to pre order info@emmausmarket.com
URL:https://emmausmarket.com/event/december-winter-market/
LOCATION:Triangle Park\, Triangle Park\, Emmaus\, PA\, 18049\, United States
ATTACH;FMTTYPE=image/jpeg:https://emmausmarket.com/wp-content/uploads/2022/11/Dechours.jpg
END:VEVENT
BEGIN:VEVENT
DTSTART;TZID=UTC:20221127T100000
DTEND;TZID=UTC:20221127T130000
DTSTAMP:20260426T015438
CREATED:20221002T042700Z
LAST-MODIFIED:20221002T042700Z
UID:1971-1669543200-1669554000@emmausmarket.com
SUMMARY:Last Market of our Regular Season!
DESCRIPTION:It’s our last regular season market day until WINTER MARKET begins on December 11th.  \nWinter Market runs December – April on the 2nd & 4th Sunday each month. Our hours will be one hour shorter\, 10am-12noon. Follow us on social media for reminders so you don’t miss a winter market!
URL:https://emmausmarket.com/event/last-market-of-our-regular-season/
LOCATION:PA
END:VEVENT
BEGIN:VEVENT
DTSTART;TZID=UTC:20221120T100000
DTEND;TZID=UTC:20221120T130000
DTSTAMP:20260426T015438
CREATED:20221002T042411Z
LAST-MODIFIED:20221002T042411Z
UID:1969-1668938400-1668949200@emmausmarket.com
SUMMARY:Market Day #30
DESCRIPTION:
URL:https://emmausmarket.com/event/market-day-30/
LOCATION:Triangle Park\, Triangle Park\, Emmaus\, PA\, 18049\, United States
END:VEVENT
BEGIN:VEVENT
DTSTART;TZID=UTC:20221113T100000
DTEND;TZID=UTC:20221113T130000
DTSTAMP:20260426T015438
CREATED:20221002T042334Z
LAST-MODIFIED:20221002T042334Z
UID:1967-1668333600-1668344400@emmausmarket.com
SUMMARY:Market Day #29
DESCRIPTION:
URL:https://emmausmarket.com/event/market-day-29/
LOCATION:Triangle Park\, Triangle Park\, Emmaus\, PA\, 18049\, United States
END:VEVENT
BEGIN:VEVENT
DTSTART;TZID=UTC:20221106T100000
DTEND;TZID=UTC:20221106T130000
DTSTAMP:20260426T015438
CREATED:20221002T042138Z
LAST-MODIFIED:20221002T042138Z
UID:1965-1667728800-1667739600@emmausmarket.com
SUMMARY:Market Day #28
DESCRIPTION:
URL:https://emmausmarket.com/event/market-day-28/
LOCATION:Triangle Park\, Triangle Park\, Emmaus\, PA\, 18049\, United States
END:VEVENT
BEGIN:VEVENT
DTSTART;TZID=UTC:20221030T100000
DTEND;TZID=UTC:20221030T130000
DTSTAMP:20260426T015438
CREATED:20221002T042055Z
LAST-MODIFIED:20221002T042055Z
UID:1963-1667124000-1667134800@emmausmarket.com
SUMMARY:Market Day #27
DESCRIPTION:
URL:https://emmausmarket.com/event/market-day-27/
LOCATION:Triangle Park\, Triangle Park\, Emmaus\, PA\, 18049\, United States
END:VEVENT
BEGIN:VEVENT
DTSTART;TZID=UTC:20221023T100000
DTEND;TZID=UTC:20221023T130000
DTSTAMP:20260426T015438
CREATED:20221002T041959Z
LAST-MODIFIED:20221002T041959Z
UID:1961-1666519200-1666530000@emmausmarket.com
SUMMARY:Market Day #26
DESCRIPTION:
URL:https://emmausmarket.com/event/market-day-26/
LOCATION:Triangle Park\, Triangle Park\, Emmaus\, PA\, 18049\, United States
END:VEVENT
BEGIN:VEVENT
DTSTART;TZID=UTC:20221016T100000
DTEND;TZID=UTC:20221016T130000
DTSTAMP:20260426T015438
CREATED:20221002T041825Z
LAST-MODIFIED:20221002T041825Z
UID:1959-1665914400-1665925200@emmausmarket.com
SUMMARY:Market Day #25
DESCRIPTION:
URL:https://emmausmarket.com/event/market-day-25/
LOCATION:Triangle Park\, Triangle Park\, Emmaus\, PA\, 18049\, United States
END:VEVENT
BEGIN:VEVENT
DTSTART;TZID=UTC:20221009T100000
DTEND;TZID=UTC:20221009T130000
DTSTAMP:20260426T015438
CREATED:20221002T041739Z
LAST-MODIFIED:20221002T041739Z
UID:1957-1665309600-1665320400@emmausmarket.com
SUMMARY:Market Day #24
DESCRIPTION:
URL:https://emmausmarket.com/event/market-day-24/
LOCATION:Triangle Park\, Triangle Park\, Emmaus\, PA\, 18049\, United States
END:VEVENT
BEGIN:VEVENT
DTSTART;TZID=UTC:20221002T100000
DTEND;TZID=UTC:20221002T130000
DTSTAMP:20260426T015438
CREATED:20221002T041707Z
LAST-MODIFIED:20221002T041707Z
UID:1955-1664704800-1664715600@emmausmarket.com
SUMMARY:Market Day #23
DESCRIPTION:
URL:https://emmausmarket.com/event/market-day-23/
LOCATION:Triangle Park\, Triangle Park\, Emmaus\, PA\, 18049\, United States
END:VEVENT
END:VCALENDAR