BEGIN:VCALENDAR
VERSION:2.0
PRODID:-//Emmaus Farmers&#039; Market - ECPv6.15.20//NONSGML v1.0//EN
CALSCALE:GREGORIAN
METHOD:PUBLISH
X-WR-CALNAME:Emmaus Farmers&#039; Market
X-ORIGINAL-URL:https://emmausmarket.com
X-WR-CALDESC:Events for Emmaus Farmers&#039; Market
REFRESH-INTERVAL;VALUE=DURATION:PT1H
X-Robots-Tag:noindex
X-PUBLISHED-TTL:PT1H
BEGIN:VTIMEZONE
TZID:UTC
BEGIN:STANDARD
TZOFFSETFROM:+0000
TZOFFSETTO:+0000
TZNAME:UTC
DTSTART:20200101T000000
END:STANDARD
END:VTIMEZONE
BEGIN:VEVENT
DTSTART;TZID=UTC:20220904T100000
DTEND;TZID=UTC:20220904T130000
DTSTAMP:20260425T121837
CREATED:20221002T041032Z
LAST-MODIFIED:20221002T041032Z
UID:1947-1662285600-1662296400@emmausmarket.com
SUMMARY:Market Day #19
DESCRIPTION:
URL:https://emmausmarket.com/event/market-day-19/
LOCATION:Triangle Park\, Triangle Park\, Emmaus\, PA\, 18049\, United States
END:VEVENT
BEGIN:VEVENT
DTSTART;TZID=UTC:20220828T100000
DTEND;TZID=UTC:20220828T130000
DTSTAMP:20260425T121837
CREATED:20221002T040947Z
LAST-MODIFIED:20221002T040947Z
UID:1945-1661680800-1661691600@emmausmarket.com
SUMMARY:Market Day #18
DESCRIPTION:
URL:https://emmausmarket.com/event/market-day-18/
LOCATION:Triangle Park\, Triangle Park\, Emmaus\, PA\, 18049\, United States
END:VEVENT
BEGIN:VEVENT
DTSTART;TZID=UTC:20220821T100000
DTEND;TZID=UTC:20220821T130000
DTSTAMP:20260425T121837
CREATED:20221002T040731Z
LAST-MODIFIED:20221002T040731Z
UID:1943-1661076000-1661086800@emmausmarket.com
SUMMARY:Market Day #17
DESCRIPTION:
URL:https://emmausmarket.com/event/market-day-17/
LOCATION:Triangle Park\, Triangle Park\, Emmaus\, PA\, 18049\, United States
END:VEVENT
BEGIN:VEVENT
DTSTART;TZID=UTC:20220814T100000
DTEND;TZID=UTC:20220814T130000
DTSTAMP:20260425T121837
CREATED:20221002T040629Z
LAST-MODIFIED:20221002T040629Z
UID:1941-1660471200-1660482000@emmausmarket.com
SUMMARY:Market Day #16
DESCRIPTION:
URL:https://emmausmarket.com/event/market-day-16/
LOCATION:Triangle Park\, Triangle Park\, Emmaus\, PA\, 18049\, United States
END:VEVENT
BEGIN:VEVENT
DTSTART;TZID=UTC:20220807T100000
DTEND;TZID=UTC:20220807T130000
DTSTAMP:20260425T121837
CREATED:20221002T040553Z
LAST-MODIFIED:20221002T040553Z
UID:1939-1659866400-1659877200@emmausmarket.com
SUMMARY:Market Day # 15
DESCRIPTION:
URL:https://emmausmarket.com/event/market-day-15/
LOCATION:Triangle Park\, Triangle Park\, Emmaus\, PA\, 18049\, United States
END:VEVENT
BEGIN:VEVENT
DTSTART;TZID=UTC:20220731T100000
DTEND;TZID=UTC:20220731T130000
DTSTAMP:20260425T121837
CREATED:20221002T040407Z
LAST-MODIFIED:20221002T040407Z
UID:1937-1659261600-1659272400@emmausmarket.com
SUMMARY:Market Day #14
DESCRIPTION:
URL:https://emmausmarket.com/event/market-day-14/
LOCATION:Triangle Park\, Triangle Park\, Emmaus\, PA\, 18049\, United States
END:VEVENT
BEGIN:VEVENT
DTSTART;TZID=UTC:20220724T100000
DTEND;TZID=UTC:20220724T130000
DTSTAMP:20260425T121837
CREATED:20221002T040053Z
LAST-MODIFIED:20221002T040216Z
UID:1932-1658656800-1658667600@emmausmarket.com
SUMMARY:Market Day #13
DESCRIPTION:
URL:https://emmausmarket.com/event/market-day-11/
LOCATION:Triangle Park\, Triangle Park\, Emmaus\, PA\, 18049\, United States
END:VEVENT
BEGIN:VEVENT
DTSTART;TZID=UTC:20220717T100000
DTEND;TZID=UTC:20220717T130000
DTSTAMP:20260425T121837
CREATED:20220712T183045Z
LAST-MODIFIED:20220712T183045Z
UID:1881-1658052000-1658062800@emmausmarket.com
SUMMARY:BANANARAMA Sunda(e)y Funday!
DESCRIPTION:Join us for BANANARAMA SUNDAE for ONE DAY ONLY!\n\nWe know our Gluten free\, dairy free\, vegan & vegetarian friends could not enjoy the PA Dairymen’s Milkshake truck for a variety of reasons. \nDairy intolerance.\nAnimal Rights.\nAllergies. \nWE GET IT\, and we SEE YOU! \nThat’s why we decided to invite BANANARAMA Frozen Banana Whip to the Triangle THIS SUNDAY ONLY!! We hope everyone joins us for a beautiful market Sundae Funday with some banana “nice cream”! Choose healthy\, by getting banana whip only or add many of their toppings all vegan friendly and many are gluten free!
URL:https://emmausmarket.com/event/bananarama-sundaey-funday/
LOCATION:Triangle Park\, Triangle Park\, Emmaus\, PA\, 18049\, United States
ATTACH;FMTTYPE=image/png:https://emmausmarket.com/wp-content/uploads/2022/07/F2CD6BCA-B2C7-4EDC-AB5B-05A9A664430E.png
END:VEVENT
BEGIN:VEVENT
DTSTART;TZID=UTC:20220710T100000
DTEND;TZID=UTC:20220710T130000
DTSTAMP:20260425T121837
CREATED:20221002T040304Z
LAST-MODIFIED:20221002T043702Z
UID:1935-1657447200-1657458000@emmausmarket.com
SUMMARY:Market Day #11
DESCRIPTION:
URL:https://emmausmarket.com/event/market-day-11-2/
LOCATION:Triangle Park\, Triangle Park\, Emmaus\, PA\, 18049\, United States
END:VEVENT
BEGIN:VEVENT
DTSTART;TZID=UTC:20220703T100000
DTEND;TZID=UTC:20220703T130000
DTSTAMP:20260425T121837
CREATED:20220614T043902Z
LAST-MODIFIED:20220614T043902Z
UID:1879-1656842400-1656853200@emmausmarket.com
SUMMARY:Market Day #10
DESCRIPTION:Join us this holiday weekend with music by Gene Collison!
URL:https://emmausmarket.com/event/market-day-10/
LOCATION:Triangle Park\, Triangle Park\, Emmaus\, PA\, 18049\, United States
END:VEVENT
BEGIN:VEVENT
DTSTART;TZID=UTC:20220626T100000
DTEND;TZID=UTC:20220626T130000
DTSTAMP:20260425T121837
CREATED:20220414T153727Z
LAST-MODIFIED:20220414T153727Z
UID:1777-1656237600-1656248400@emmausmarket.com
SUMMARY:Market Day #9
DESCRIPTION:Join us with our vendor lineup of 26 vendors \nLive music with South Mountain String Band 10am-1pm \nCommunity Table featuring Seven Generations Charter School
URL:https://emmausmarket.com/event/market-day-9/
LOCATION:Triangle Park\, Triangle Park\, Emmaus\, PA\, 18049\, United States
ATTACH;FMTTYPE=image/jpeg:https://emmausmarket.com/wp-content/uploads/2021/08/tomandbetty.jpg
END:VEVENT
BEGIN:VEVENT
DTSTART;TZID=UTC:20220619T100000
DTEND;TZID=UTC:20220619T130000
DTSTAMP:20260425T121837
CREATED:20220414T153401Z
LAST-MODIFIED:20220614T040656Z
UID:1773-1655632800-1655643600@emmausmarket.com
SUMMARY:Market Day #8 featuring PA Dairymen's MILKSHAKES on the MOOV!
DESCRIPTION:Join us with our vendor lineup of 26 vendors and a special visit from PA Dairymen’s MILKSHAKES on the MOOV celebrating National Dairy Month! Milkshakes will be sold 10am-1pm and they assure us they will NOT run out this time!! Choose Chocolate\, Vanilla or Half & Half for $6 each. Milk is made from 100% Pennsylvania dairy milk that is typically only found at the PA Farm Show! All proceeds from the sale of milkshakes benefit agricultural scholarships\, youth programs and educational programs across the state. Please visit www.padairymens.com for more details on the milkshakes and their cause. \n \nLive music with Seth Witcher 10am-1pm www.sethwitcherofficial.com \nCommunity Table featuring Emmaus Fire Department
URL:https://emmausmarket.com/event/market-day-8/
LOCATION:Triangle Park\, Triangle Park\, Emmaus\, PA\, 18049\, United States
ATTACH;FMTTYPE=image/png:https://emmausmarket.com/wp-content/uploads/2022/04/CE737338-873A-4276-B328-281076ABB9ED.png
END:VEVENT
BEGIN:VEVENT
DTSTART;TZID=UTC:20220612T100000
DTEND;TZID=UTC:20220612T130000
DTSTAMP:20260425T121837
CREATED:20220414T151203Z
LAST-MODIFIED:20220414T151203Z
UID:1771-1655028000-1655038800@emmausmarket.com
SUMMARY:Market Day #7
DESCRIPTION:Join us with our vendor lineup of 26 vendors \nLive music with Frank Porter 10am-1pm \nCommunity Table featuring Emmaus Garden Club
URL:https://emmausmarket.com/event/market-day-7/
LOCATION:Triangle Park\, Triangle Park\, Emmaus\, PA\, 18049\, United States
END:VEVENT
BEGIN:VEVENT
DTSTART;TZID=UTC:20220605T100000
DTEND;TZID=UTC:20220605T130000
DTSTAMP:20260425T121837
CREATED:20220414T150949Z
LAST-MODIFIED:20220414T153828Z
UID:1769-1654423200-1654434000@emmausmarket.com
SUMMARY:Market Day #6
DESCRIPTION:Join us with our vendor lineup of 26 vendors and our monthly performance from Master Juggler Kyle Mertz 11am-12pm! \nLive music with Tavern Tan 10am-1pm \nCommunity Table featuring Emmaus Recreation Commission
URL:https://emmausmarket.com/event/market-day-6/
LOCATION:Triangle Park\, Triangle Park\, Emmaus\, PA\, 18049\, United States
ATTACH;FMTTYPE=image/jpeg:https://emmausmarket.com/wp-content/uploads/2022/04/kylemertz.jpeg
END:VEVENT
BEGIN:VEVENT
DTSTART;TZID=UTC:20220529T100000
DTEND;TZID=UTC:20220529T130000
DTSTAMP:20260425T121837
CREATED:20220414T150803Z
LAST-MODIFIED:20220414T154442Z
UID:1767-1653818400-1653829200@emmausmarket.com
SUMMARY:Market Day #5
DESCRIPTION:Join us with our vendor lineup of 26 vendors! \nLive music with Dave Karchner 10am-1pm. \nCommunity Table featuring Circle of Seasons Charter School.
URL:https://emmausmarket.com/event/market-day-5/
LOCATION:Triangle Park\, Triangle Park\, Emmaus\, PA\, 18049\, United States
ATTACH;FMTTYPE=image/jpeg:https://emmausmarket.com/wp-content/uploads/2021/04/118951779_10159429300981554_6052470593345314694_n-e1649951068702.jpg
END:VEVENT
BEGIN:VEVENT
DTSTART;TZID=UTC:20220522T100000
DTEND;TZID=UTC:20220522T130000
DTSTAMP:20260425T121837
CREATED:20220414T150632Z
LAST-MODIFIED:20220414T154344Z
UID:1765-1653213600-1653224400@emmausmarket.com
SUMMARY:Market Day #4
DESCRIPTION:Join us with our lineup of 26 vendors \nLive music with Golden Twine 10am-1pm \nCommunity Table featuring Emmaus Garden CLUB!
URL:https://emmausmarket.com/event/market-day-4/
LOCATION:Triangle Park\, Triangle Park\, Emmaus\, PA\, 18049\, United States
ATTACH;FMTTYPE=image/jpeg:https://emmausmarket.com/wp-content/uploads/2021/04/121162250_10159519377926554_3943803974714083076_n-e1649951014568.jpg
END:VEVENT
BEGIN:VEVENT
DTSTART;TZID=UTC:20220515T100000
DTEND;TZID=UTC:20220515T130000
DTSTAMP:20260425T121837
CREATED:20220414T150358Z
LAST-MODIFIED:20220414T154224Z
UID:1763-1652608800-1652619600@emmausmarket.com
SUMMARY:Market Day #3
DESCRIPTION:Join us with our lineup of 26 vendors! \nLive music with Just So 10am-1pm \nCommunity Table featuring Emmaus Borough Zoning
URL:https://emmausmarket.com/event/market-day-3/
LOCATION:Triangle Park\, Triangle Park\, Emmaus\, PA\, 18049\, United States
ATTACH;FMTTYPE=image/jpeg:https://emmausmarket.com/wp-content/uploads/2021/08/118267532_10159394130766554_3231837881869991308_n.jpg
END:VEVENT
BEGIN:VEVENT
DTSTART;TZID=UTC:20220508T100000
DTEND;TZID=UTC:20220508T130000
DTSTAMP:20260425T121837
CREATED:20220414T145905Z
LAST-MODIFIED:20220414T154144Z
UID:1760-1652004000-1652014800@emmausmarket.com
SUMMARY:Market Day #2
DESCRIPTION:Join us with our lineup of 26 vendors on Mother’s Day! \nLive music with Frank Porter 10am-1pm \nCommunity Table featuring Emmaus Garden Commission
URL:https://emmausmarket.com/event/market-day-2/
LOCATION:PA
ATTACH;FMTTYPE=image/jpeg:https://emmausmarket.com/wp-content/uploads/2021/04/121674581_10159536691486554_1746813331952718841_n-e1649950895583.jpg
END:VEVENT
BEGIN:VEVENT
DTSTART;TZID=UTC:20220501T100000
DTEND;TZID=UTC:20220501T130000
DTSTAMP:20260425T121837
CREATED:20220307T053444Z
LAST-MODIFIED:20220414T144517Z
UID:1710-1651399200-1651410000@emmausmarket.com
SUMMARY:Opening Day of our 19th Season!
DESCRIPTION:Join us for OPENING DAY of our 19th Season! \n \nFeaturing music with Emmaus Public Singing Society & our monthly performance by Master Juggler Kyle Mertz 11am-12pm!
URL:https://emmausmarket.com/event/opening-day-of-our-19th-season/
LOCATION:Triangle Park\, Triangle Park\, Emmaus\, PA\, 18049\, United States
ATTACH;FMTTYPE=image/jpeg:https://emmausmarket.com/wp-content/uploads/2022/03/kylemertz.jpeg
END:VEVENT
BEGIN:VEVENT
DTSTART;TZID=UTC:20220424T100000
DTEND;TZID=UTC:20220424T100000
DTSTAMP:20260425T121837
CREATED:20220404T153033Z
LAST-MODIFIED:20220404T153033Z
UID:1744-1650794400-1650794400@emmausmarket.com
SUMMARY:Last Winter Market
DESCRIPTION:Sunday\, April 24th is EARTH DAY and our last winter market! Won’t you join us?
URL:https://emmausmarket.com/event/last-winter-market/
LOCATION:Triangle Park\, Triangle Park\, Emmaus\, PA\, 18049\, United States
END:VEVENT
BEGIN:VEVENT
DTSTART;TZID=UTC:20220410T100000
DTEND;TZID=UTC:20220410T120000
DTSTAMP:20260425T121837
CREATED:20220404T151808Z
LAST-MODIFIED:20220404T151808Z
UID:1740-1649584800-1649592000@emmausmarket.com
SUMMARY:PA Dairymen's Milkshakes on the MOOV!
DESCRIPTION:Join us for our winter market on Sunday\, April 10th with special guest PA Dairymen’s Milkshakes on the MOOV! Bring a friend to the market rain or shine and enjoy these delicious milkshakes as a special early Easter treat.\nThe milkshake truck is returning on Father’s Day during regular season once again like last season! If you miss this week\, don’t fret\, they’ll be back on JUNE 19th.
URL:https://emmausmarket.com/event/pa-dairymens-milkshakes-on-the-moov/
LOCATION:Triangle Park\, Triangle Park\, Emmaus\, PA\, 18049\, United States
ATTACH;FMTTYPE=image/png:https://emmausmarket.com/wp-content/uploads/2022/04/PA-Dairymens.png
END:VEVENT
BEGIN:VEVENT
DTSTART;TZID=UTC:20211031T100000
DTEND;TZID=UTC:20211031T130000
DTSTAMP:20260425T121837
CREATED:20210803T154351Z
LAST-MODIFIED:20210803T154351Z
UID:1668-1635674400-1635685200@emmausmarket.com
SUMMARY:Celebrate Halloween at the Market!
DESCRIPTION:Join us in your costume\, and vote for your favorite vendor costumes while you enjoy our unofficial house band\, The Emmaus Public Singing Society! \nMore details to come closer to the event day!!
URL:https://emmausmarket.com/event/celebrate-halloween-at-the-market/
LOCATION:Triangle Park\, Triangle Park\, Emmaus\, PA\, 18049\, United States
ATTACH;FMTTYPE=image/jpeg:https://emmausmarket.com/wp-content/uploads/2021/04/safe_image.php_.jpeg
END:VEVENT
BEGIN:VEVENT
DTSTART;TZID=UTC:20211024T100000
DTEND;TZID=UTC:20211024T123000
DTSTAMP:20260425T121837
CREATED:20210803T154621Z
LAST-MODIFIED:20210803T154621Z
UID:1670-1635069600-1635078600@emmausmarket.com
SUMMARY:Regular Market #26
DESCRIPTION:Join us at the market on Sunday with LIVE MUSIC featuring Tom & Betty Druckenmiller and friends!
URL:https://emmausmarket.com/event/regular-market-26-2/
LOCATION:Triangle Park\, Triangle Park\, Emmaus\, PA\, 18049\, United States
ATTACH;FMTTYPE=image/jpeg:https://emmausmarket.com/wp-content/uploads/2021/08/tomandbetty.jpg
END:VEVENT
BEGIN:VEVENT
DTSTART;TZID=UTC:20211003T100000
DTEND;TZID=UTC:20211003T123000
DTSTAMP:20260425T121837
CREATED:20210803T154202Z
LAST-MODIFIED:20210803T154202Z
UID:1666-1633255200-1633264200@emmausmarket.com
SUMMARY:Regular Market #23
DESCRIPTION:Emmaus Public Singing Society joins us once again at the market 10am-12:30pm!
URL:https://emmausmarket.com/event/regular-market-23-2/
LOCATION:Triangle Park\, Triangle Park\, Emmaus\, PA\, 18049\, United States
ATTACH;FMTTYPE=image/jpeg:https://emmausmarket.com/wp-content/uploads/2021/04/107503678_10159266840936554_7832052868415338883_n.jpg
END:VEVENT
BEGIN:VEVENT
DTSTART;TZID=UTC:20210926T100000
DTEND;TZID=UTC:20210926T123000
DTSTAMP:20260425T121837
CREATED:20210803T154103Z
LAST-MODIFIED:20210803T154103Z
UID:1664-1632650400-1632659400@emmausmarket.com
SUMMARY:Regular Market #22
DESCRIPTION:Join us for LIVE MUSIC on Sunday featuring David Matsinko!
URL:https://emmausmarket.com/event/regular-market-22-2/
LOCATION:Triangle Park\, Triangle Park\, Emmaus\, PA\, 18049\, United States
ATTACH;FMTTYPE=image/jpeg:https://emmausmarket.com/wp-content/uploads/2021/04/119895807_10159465611746554_2749857074517306500_n.jpg
END:VEVENT
BEGIN:VEVENT
DTSTART;TZID=UTC:20210919T100000
DTEND;TZID=UTC:20210919T123000
DTSTAMP:20260425T121837
CREATED:20210803T153809Z
LAST-MODIFIED:20210803T153809Z
UID:1661-1632045600-1632054600@emmausmarket.com
SUMMARY:Regular Market #21
DESCRIPTION:Join us at the market on Sunday with LIVE MUSIC featuring Just So Duo!
URL:https://emmausmarket.com/event/regular-market-21-2/
LOCATION:Triangle Park\, Triangle Park\, Emmaus\, PA\, 18049\, United States
ATTACH;FMTTYPE=image/jpeg:https://emmausmarket.com/wp-content/uploads/2021/08/118267532_10159394130766554_3231837881869991308_n.jpg
END:VEVENT
BEGIN:VEVENT
DTSTART;TZID=UTC:20210912T100000
DTEND;TZID=UTC:20210912T123000
DTSTAMP:20260425T121837
CREATED:20210803T153413Z
LAST-MODIFIED:20210803T153413Z
UID:1658-1631440800-1631449800@emmausmarket.com
SUMMARY:Regular Market #20
DESCRIPTION:Join us on Sunday with LIVE MUSIC featuring Elizabeth Gillen!
URL:https://emmausmarket.com/event/regular-market-20-2/
LOCATION:Triangle Park\, Triangle Park\, Emmaus\, PA\, 18049\, United States
ATTACH;FMTTYPE=image/jpeg:https://emmausmarket.com/wp-content/uploads/2021/08/ElizabethGillen.jpg
END:VEVENT
BEGIN:VEVENT
DTSTART;TZID=UTC:20210905T100000
DTEND;TZID=UTC:20210905T123000
DTSTAMP:20260425T121837
CREATED:20210803T153158Z
LAST-MODIFIED:20210803T153158Z
UID:1656-1630836000-1630845000@emmausmarket.com
SUMMARY:Regular Market #19
DESCRIPTION:Live Music this Sunday 10am-12:30pm with Emmaus Public Singing Society!
URL:https://emmausmarket.com/event/regular-market-19-2/
LOCATION:Triangle Park\, Triangle Park\, Emmaus\, PA\, 18049\, United States
ATTACH;FMTTYPE=image/jpeg:https://emmausmarket.com/wp-content/uploads/2021/04/120453679_10159500739561554_6304853942127241197_n.jpg
END:VEVENT
BEGIN:VEVENT
DTSTART;TZID=UTC:20210829T100000
DTEND;TZID=UTC:20210829T123000
DTSTAMP:20260425T121837
CREATED:20210621T170416Z
LAST-MODIFIED:20210621T170416Z
UID:1643-1630231200-1630240200@emmausmarket.com
SUMMARY:Regular Market #18
DESCRIPTION:Live Music featuring Woodside Avenue Trio 10am – 12:30pm!
URL:https://emmausmarket.com/event/regular-market-18-2/
LOCATION:Triangle Park\, Triangle Park\, Emmaus\, PA\, 18049\, United States
END:VEVENT
BEGIN:VEVENT
DTSTART;TZID=UTC:20210822T100000
DTEND;TZID=UTC:20210822T123000
DTSTAMP:20260425T121837
CREATED:20210621T170233Z
LAST-MODIFIED:20210621T170233Z
UID:1641-1629626400-1629635400@emmausmarket.com
SUMMARY:Regular Market #17
DESCRIPTION:Live Music with father-daughter duo\, Todd & Martina Federowicz!
URL:https://emmausmarket.com/event/regular-market-17-2/
LOCATION:Triangle Park\, Triangle Park\, Emmaus\, PA\, 18049\, United States
END:VEVENT
END:VCALENDAR