BEGIN:VCALENDAR
VERSION:2.0
PRODID:-//Emmaus Farmers&#039; Market - ECPv6.15.20//NONSGML v1.0//EN
CALSCALE:GREGORIAN
METHOD:PUBLISH
X-WR-CALNAME:Emmaus Farmers&#039; Market
X-ORIGINAL-URL:https://emmausmarket.com
X-WR-CALDESC:Events for Emmaus Farmers&#039; Market
REFRESH-INTERVAL;VALUE=DURATION:PT1H
X-Robots-Tag:noindex
X-PUBLISHED-TTL:PT1H
BEGIN:VTIMEZONE
TZID:UTC
BEGIN:STANDARD
TZOFFSETFROM:+0000
TZOFFSETTO:+0000
TZNAME:UTC
DTSTART:20190101T000000
END:STANDARD
END:VTIMEZONE
BEGIN:VEVENT
DTSTART;TZID=UTC:20210228T100000
DTEND;TZID=UTC:20210228T120000
DTSTAMP:20260425T105011
CREATED:20201222T062709Z
LAST-MODIFIED:20201222T062709Z
UID:1451-1614506400-1614513600@emmausmarket.com
SUMMARY:Winter Market #6
DESCRIPTION:
URL:https://emmausmarket.com/event/winter-market-6/
LOCATION:Triangle Park\, Triangle Park\, Emmaus\, PA\, 18049\, United States
END:VEVENT
BEGIN:VEVENT
DTSTART;TZID=UTC:20210214T100000
DTEND;TZID=UTC:20210214T120000
DTSTAMP:20260425T105011
CREATED:20201222T062631Z
LAST-MODIFIED:20201222T062631Z
UID:1449-1613296800-1613304000@emmausmarket.com
SUMMARY:Winter Market #5
DESCRIPTION:
URL:https://emmausmarket.com/event/winter-market-5/
LOCATION:Triangle Park\, Triangle Park\, Emmaus\, PA\, 18049\, United States
END:VEVENT
BEGIN:VEVENT
DTSTART;TZID=UTC:20210124T100000
DTEND;TZID=UTC:20210124T120000
DTSTAMP:20260425T105011
CREATED:20201222T062545Z
LAST-MODIFIED:20201222T062545Z
UID:1447-1611482400-1611489600@emmausmarket.com
SUMMARY:Winter Market #4
DESCRIPTION:
URL:https://emmausmarket.com/event/winter-market-4/
LOCATION:Triangle Park\, Triangle Park\, Emmaus\, PA\, 18049\, United States
END:VEVENT
BEGIN:VEVENT
DTSTART;TZID=UTC:20210110T100000
DTEND;TZID=UTC:20210110T120000
DTSTAMP:20260425T105011
CREATED:20201222T062437Z
LAST-MODIFIED:20201222T062437Z
UID:1445-1610272800-1610280000@emmausmarket.com
SUMMARY:Winter Market #3
DESCRIPTION:
URL:https://emmausmarket.com/event/winter-market-3/
LOCATION:Triangle Park\, Triangle Park\, Emmaus\, PA\, 18049\, United States
END:VEVENT
BEGIN:VEVENT
DTSTART;TZID=UTC:20201227T100000
DTEND;TZID=UTC:20201227T120000
DTSTAMP:20260425T105011
CREATED:20201222T062321Z
LAST-MODIFIED:20201222T062321Z
UID:1443-1609063200-1609070400@emmausmarket.com
SUMMARY:Winter Market #2
DESCRIPTION:
URL:https://emmausmarket.com/event/winter-market-2/
LOCATION:Triangle Park\, Triangle Park\, Emmaus\, PA\, 18049\, United States
END:VEVENT
BEGIN:VEVENT
DTSTART;TZID=UTC:20201129T100000
DTEND;TZID=UTC:20201129T130000
DTSTAMP:20260425T105011
CREATED:20200520T031259Z
LAST-MODIFIED:20200520T031259Z
UID:1323-1606644000-1606654800@emmausmarket.com
SUMMARY:Regular Market #31
DESCRIPTION:
URL:https://emmausmarket.com/event/regular-market-31/
LOCATION:Triangle Park\, Triangle Park\, Emmaus\, PA\, 18049\, United States
END:VEVENT
BEGIN:VEVENT
DTSTART;TZID=UTC:20201122T100000
DTEND;TZID=UTC:20201122T130000
DTSTAMP:20260425T105011
CREATED:20200520T031222Z
LAST-MODIFIED:20200520T031222Z
UID:1321-1606039200-1606050000@emmausmarket.com
SUMMARY:Regular Market #30
DESCRIPTION:
URL:https://emmausmarket.com/event/regular-market-30/
LOCATION:Triangle Park\, Triangle Park\, Emmaus\, PA\, 18049\, United States
END:VEVENT
BEGIN:VEVENT
DTSTART;TZID=UTC:20201115T100000
DTEND;TZID=UTC:20201115T130000
DTSTAMP:20260425T105011
CREATED:20200520T031140Z
LAST-MODIFIED:20200520T031140Z
UID:1319-1605434400-1605445200@emmausmarket.com
SUMMARY:Regular Market #29
DESCRIPTION:
URL:https://emmausmarket.com/event/regular-market-29/
LOCATION:Triangle Park\, Triangle Park\, Emmaus\, PA\, 18049\, United States
END:VEVENT
BEGIN:VEVENT
DTSTART;TZID=UTC:20201108T100000
DTEND;TZID=UTC:20201108T130000
DTSTAMP:20260425T105011
CREATED:20200520T031058Z
LAST-MODIFIED:20200520T031058Z
UID:1317-1604829600-1604840400@emmausmarket.com
SUMMARY:Regular Market #28
DESCRIPTION:
URL:https://emmausmarket.com/event/regular-market-28/
LOCATION:Triangle Park\, Triangle Park\, Emmaus\, PA\, 18049\, United States
END:VEVENT
BEGIN:VEVENT
DTSTART;TZID=UTC:20201101T100000
DTEND;TZID=UTC:20201101T130000
DTSTAMP:20260425T105011
CREATED:20200520T030956Z
LAST-MODIFIED:20200520T030956Z
UID:1315-1604224800-1604235600@emmausmarket.com
SUMMARY:Regular Market #27
DESCRIPTION:
URL:https://emmausmarket.com/event/regular-market-27/
LOCATION:Triangle Park\, Triangle Park\, Emmaus\, PA\, 18049\, United States
END:VEVENT
BEGIN:VEVENT
DTSTART;TZID=UTC:20201025T100000
DTEND;TZID=UTC:20201025T130000
DTSTAMP:20260425T105011
CREATED:20200520T030914Z
LAST-MODIFIED:20200520T030914Z
UID:1313-1603620000-1603630800@emmausmarket.com
SUMMARY:Regular Market #26
DESCRIPTION:
URL:https://emmausmarket.com/event/regular-market-26/
LOCATION:Triangle Park\, Triangle Park\, Emmaus\, PA\, 18049\, United States
END:VEVENT
BEGIN:VEVENT
DTSTART;TZID=UTC:20201018T100000
DTEND;TZID=UTC:20201018T130000
DTSTAMP:20260425T105011
CREATED:20200520T030828Z
LAST-MODIFIED:20200520T030828Z
UID:1311-1603015200-1603026000@emmausmarket.com
SUMMARY:Regular Market #25
DESCRIPTION:
URL:https://emmausmarket.com/event/regular-market-25/
LOCATION:Triangle Park\, Triangle Park\, Emmaus\, PA\, 18049\, United States
END:VEVENT
BEGIN:VEVENT
DTSTART;TZID=UTC:20201011T100000
DTEND;TZID=UTC:20201011T130000
DTSTAMP:20260425T105011
CREATED:20200520T030753Z
LAST-MODIFIED:20200520T030753Z
UID:1309-1602410400-1602421200@emmausmarket.com
SUMMARY:Regular Market #24
DESCRIPTION:
URL:https://emmausmarket.com/event/regular-market-24/
LOCATION:Triangle Park\, Triangle Park\, Emmaus\, PA\, 18049\, United States
END:VEVENT
BEGIN:VEVENT
DTSTART;TZID=UTC:20201004T100000
DTEND;TZID=UTC:20201004T130000
DTSTAMP:20260425T105011
CREATED:20200520T030718Z
LAST-MODIFIED:20200520T030718Z
UID:1307-1601805600-1601816400@emmausmarket.com
SUMMARY:Regular Market #23
DESCRIPTION:
URL:https://emmausmarket.com/event/regular-market-23/
LOCATION:Triangle Park\, Triangle Park\, Emmaus\, PA\, 18049\, United States
END:VEVENT
BEGIN:VEVENT
DTSTART;TZID=UTC:20200927T100000
DTEND;TZID=UTC:20200927T130000
DTSTAMP:20260425T105011
CREATED:20200520T030617Z
LAST-MODIFIED:20200520T030617Z
UID:1305-1601200800-1601211600@emmausmarket.com
SUMMARY:Regular Market #22
DESCRIPTION:
URL:https://emmausmarket.com/event/regular-market-22/
LOCATION:Triangle Park\, Triangle Park\, Emmaus\, PA\, 18049\, United States
END:VEVENT
BEGIN:VEVENT
DTSTART;TZID=UTC:20200920T100000
DTEND;TZID=UTC:20200920T130000
DTSTAMP:20260425T105011
CREATED:20200520T030542Z
LAST-MODIFIED:20200520T030542Z
UID:1303-1600596000-1600606800@emmausmarket.com
SUMMARY:Regular Market #21
DESCRIPTION:
URL:https://emmausmarket.com/event/regular-market-21/
LOCATION:Triangle Park\, Triangle Park\, Emmaus\, PA\, 18049\, United States
END:VEVENT
BEGIN:VEVENT
DTSTART;TZID=UTC:20200913T100000
DTEND;TZID=UTC:20200913T130000
DTSTAMP:20260425T105011
CREATED:20200520T030508Z
LAST-MODIFIED:20200520T030508Z
UID:1301-1599991200-1600002000@emmausmarket.com
SUMMARY:Regular Market #20
DESCRIPTION:
URL:https://emmausmarket.com/event/regular-market-20/
LOCATION:Triangle Park\, Triangle Park\, Emmaus\, PA\, 18049\, United States
END:VEVENT
BEGIN:VEVENT
DTSTART;TZID=UTC:20200906T100000
DTEND;TZID=UTC:20200906T130000
DTSTAMP:20260425T105011
CREATED:20200520T030425Z
LAST-MODIFIED:20200520T030425Z
UID:1299-1599386400-1599397200@emmausmarket.com
SUMMARY:Regular Market #19
DESCRIPTION:
URL:https://emmausmarket.com/event/regular-market-19/
LOCATION:Triangle Park\, Triangle Park\, Emmaus\, PA\, 18049\, United States
END:VEVENT
BEGIN:VEVENT
DTSTART;TZID=UTC:20200830T100000
DTEND;TZID=UTC:20200830T130000
DTSTAMP:20260425T105011
CREATED:20200520T030317Z
LAST-MODIFIED:20200520T030317Z
UID:1297-1598781600-1598792400@emmausmarket.com
SUMMARY:Regular Market #18
DESCRIPTION:
URL:https://emmausmarket.com/event/regular-market-18/
LOCATION:Triangle Park\, Triangle Park\, Emmaus\, PA\, 18049\, United States
END:VEVENT
BEGIN:VEVENT
DTSTART;TZID=UTC:20200823T100000
DTEND;TZID=UTC:20200823T130000
DTSTAMP:20260425T105011
CREATED:20200520T030239Z
LAST-MODIFIED:20200520T030239Z
UID:1295-1598176800-1598187600@emmausmarket.com
SUMMARY:Regular Market #17
DESCRIPTION:
URL:https://emmausmarket.com/event/regular-market-17/
LOCATION:Triangle Park\, Triangle Park\, Emmaus\, PA\, 18049\, United States
END:VEVENT
BEGIN:VEVENT
DTSTART;TZID=UTC:20200816T100000
DTEND;TZID=UTC:20200816T130000
DTSTAMP:20260425T105011
CREATED:20200520T030133Z
LAST-MODIFIED:20200520T030151Z
UID:1293-1597572000-1597582800@emmausmarket.com
SUMMARY:Regular Market #16
DESCRIPTION:
URL:https://emmausmarket.com/event/regular-market-16/
LOCATION:Triangle Park\, Triangle Park\, Emmaus\, PA\, 18049\, United States
END:VEVENT
BEGIN:VEVENT
DTSTART;TZID=UTC:20200809T100000
DTEND;TZID=UTC:20200809T130000
DTSTAMP:20260425T105011
CREATED:20200520T030043Z
LAST-MODIFIED:20200520T030043Z
UID:1291-1596967200-1596978000@emmausmarket.com
SUMMARY:Regular Market #15
DESCRIPTION:
URL:https://emmausmarket.com/event/regular-market-15/
LOCATION:Triangle Park\, Triangle Park\, Emmaus\, PA\, 18049\, United States
END:VEVENT
BEGIN:VEVENT
DTSTART;TZID=UTC:20200802T100000
DTEND;TZID=UTC:20200802T130000
DTSTAMP:20260425T105011
CREATED:20200520T030005Z
LAST-MODIFIED:20200520T030005Z
UID:1289-1596362400-1596373200@emmausmarket.com
SUMMARY:Regular Market #14
DESCRIPTION:
URL:https://emmausmarket.com/event/regular-market-14/
LOCATION:Triangle Park\, Triangle Park\, Emmaus\, PA\, 18049\, United States
END:VEVENT
BEGIN:VEVENT
DTSTART;TZID=UTC:20200726T100000
DTEND;TZID=UTC:20200726T130000
DTSTAMP:20260425T105011
CREATED:20200520T025924Z
LAST-MODIFIED:20200520T025924Z
UID:1287-1595757600-1595768400@emmausmarket.com
SUMMARY:Regular Market #13
DESCRIPTION:
URL:https://emmausmarket.com/event/regular-market-13/
LOCATION:Triangle Park\, Triangle Park\, Emmaus\, PA\, 18049\, United States
END:VEVENT
BEGIN:VEVENT
DTSTART;TZID=UTC:20200719T100000
DTEND;TZID=UTC:20200719T130000
DTSTAMP:20260425T105011
CREATED:20200520T025816Z
LAST-MODIFIED:20200520T025840Z
UID:1284-1595152800-1595163600@emmausmarket.com
SUMMARY:Regular Market #12
DESCRIPTION:
URL:https://emmausmarket.com/event/regular-market/
LOCATION:Triangle Park\, Triangle Park\, Emmaus\, PA\, 18049\, United States
END:VEVENT
BEGIN:VEVENT
DTSTART;TZID=UTC:20200712T100000
DTEND;TZID=UTC:20200712T130000
DTSTAMP:20260425T105011
CREATED:20200520T025109Z
LAST-MODIFIED:20200520T025109Z
UID:1280-1594548000-1594558800@emmausmarket.com
SUMMARY:Regular Market #11
DESCRIPTION:
URL:https://emmausmarket.com/event/regular-market-11/
LOCATION:Triangle Park\, Triangle Park\, Emmaus\, PA\, 18049\, United States
END:VEVENT
BEGIN:VEVENT
DTSTART;TZID=UTC:20200705T100000
DTEND;TZID=UTC:20200705T130000
DTSTAMP:20260425T105011
CREATED:20200520T025025Z
LAST-MODIFIED:20200520T025025Z
UID:1278-1593943200-1593954000@emmausmarket.com
SUMMARY:Regular Market #10
DESCRIPTION:
URL:https://emmausmarket.com/event/regular-market-10/
LOCATION:Triangle Park\, Triangle Park\, Emmaus\, PA\, 18049\, United States
END:VEVENT
BEGIN:VEVENT
DTSTART;TZID=UTC:20200628T100000
DTEND;TZID=UTC:20200628T130000
DTSTAMP:20260425T105011
CREATED:20200520T024937Z
LAST-MODIFIED:20200520T024937Z
UID:1276-1593338400-1593349200@emmausmarket.com
SUMMARY:Regular Market #9
DESCRIPTION:
URL:https://emmausmarket.com/event/regular-market-9/
LOCATION:PA
END:VEVENT
BEGIN:VEVENT
DTSTART;TZID=UTC:20200621T100000
DTEND;TZID=UTC:20200621T130000
DTSTAMP:20260425T105011
CREATED:20200520T024838Z
LAST-MODIFIED:20200520T024838Z
UID:1274-1592733600-1592744400@emmausmarket.com
SUMMARY:Regular Market #8
DESCRIPTION:
URL:https://emmausmarket.com/event/regular-market-8/
LOCATION:Triangle Park\, Triangle Park\, Emmaus\, PA\, 18049\, United States
END:VEVENT
BEGIN:VEVENT
DTSTART;TZID=UTC:20200614T100000
DTEND;TZID=UTC:20200614T130000
DTSTAMP:20260425T105011
CREATED:20200520T024708Z
LAST-MODIFIED:20200520T024708Z
UID:1272-1592128800-1592139600@emmausmarket.com
SUMMARY:Regular Market #7
DESCRIPTION:
URL:https://emmausmarket.com/event/regular-market-7/
LOCATION:Triangle Park\, Triangle Park\, Emmaus\, PA\, 18049\, United States
END:VEVENT
END:VCALENDAR