BEGIN:VCALENDAR
VERSION:2.0
PRODID:-//Emmaus Farmers&#039; Market - ECPv6.15.20//NONSGML v1.0//EN
CALSCALE:GREGORIAN
METHOD:PUBLISH
X-ORIGINAL-URL:https://emmausmarket.com
X-WR-CALDESC:Events for Emmaus Farmers&#039; Market
REFRESH-INTERVAL;VALUE=DURATION:PT1H
X-Robots-Tag:noindex
X-PUBLISHED-TTL:PT1H
BEGIN:VTIMEZONE
TZID:UTC
BEGIN:STANDARD
TZOFFSETFROM:+0000
TZOFFSETTO:+0000
TZNAME:UTC
DTSTART:20230101T000000
END:STANDARD
END:VTIMEZONE
BEGIN:VEVENT
DTSTART;TZID=UTC:20240901T100000
DTEND;TZID=UTC:20240901T130000
DTSTAMP:20260426T015012
CREATED:20240926T033257Z
LAST-MODIFIED:20240926T033257Z
UID:2432-1725184800-1725195600@emmausmarket.com
SUMMARY:Market #18
DESCRIPTION:
URL:https://emmausmarket.com/event/market-18/
LOCATION:Triangle Park\, Triangle Park\, Emmaus\, PA\, 18049\, United States
END:VEVENT
BEGIN:VEVENT
DTSTART;TZID=UTC:20240908T100000
DTEND;TZID=UTC:20240908T130000
DTSTAMP:20260426T015012
CREATED:20240926T033555Z
LAST-MODIFIED:20240926T033555Z
UID:2434-1725789600-1725800400@emmausmarket.com
SUMMARY:Market #19
DESCRIPTION:Live Music: Dave Karchner \nCommunity Table: The Kindness Project
URL:https://emmausmarket.com/event/market-19/
LOCATION:Triangle Park\, Triangle Park\, Emmaus\, PA\, 18049\, United States
END:VEVENT
BEGIN:VEVENT
DTSTART;TZID=UTC:20240915T100000
DTEND;TZID=UTC:20240915T130000
DTSTAMP:20260426T015012
CREATED:20240926T033659Z
LAST-MODIFIED:20240926T033659Z
UID:2436-1726394400-1726405200@emmausmarket.com
SUMMARY:Market #20
DESCRIPTION:Live Music: Safiyah Hernandez (with band) \nCommunity Table: Team Rubicon
URL:https://emmausmarket.com/event/market-20/
LOCATION:Triangle Park\, Triangle Park\, Emmaus\, PA\, 18049\, United States
END:VEVENT
BEGIN:VEVENT
DTSTART;TZID=UTC:20240922T100000
DTEND;TZID=UTC:20240922T130000
DTSTAMP:20260426T015012
CREATED:20240926T033743Z
LAST-MODIFIED:20240926T033743Z
UID:2438-1726999200-1727010000@emmausmarket.com
SUMMARY:Market #21
DESCRIPTION:Live Music: Frank Porter \nCommunity Table: N/A –> email us to book!
URL:https://emmausmarket.com/event/market-21/
LOCATION:Triangle Park\, Triangle Park\, Emmaus\, PA\, 18049\, United States
END:VEVENT
BEGIN:VEVENT
DTSTART;TZID=UTC:20240929T100000
DTEND;TZID=UTC:20240929T130000
DTSTAMP:20260426T015012
CREATED:20240926T033833Z
LAST-MODIFIED:20240926T033833Z
UID:2440-1727604000-1727614800@emmausmarket.com
SUMMARY:Market #22
DESCRIPTION:Live Music: Tom & Betty Druckenmiller with Norm Williams \nCommunity Table: N/A –> email us to book!
URL:https://emmausmarket.com/event/market-22/
LOCATION:Triangle Park\, Triangle Park\, Emmaus\, PA\, 18049\, United States
END:VEVENT
END:VCALENDAR