BEGIN:VCALENDAR
VERSION:2.0
PRODID:-//Emmaus Farmers&#039; Market - ECPv6.15.20//NONSGML v1.0//EN
CALSCALE:GREGORIAN
METHOD:PUBLISH
X-WR-CALNAME:Emmaus Farmers&#039; Market
X-ORIGINAL-URL:https://emmausmarket.com
X-WR-CALDESC:Events for Emmaus Farmers&#039; Market
REFRESH-INTERVAL;VALUE=DURATION:PT1H
X-Robots-Tag:noindex
X-PUBLISHED-TTL:PT1H
BEGIN:VTIMEZONE
TZID:UTC
BEGIN:STANDARD
TZOFFSETFROM:+0000
TZOFFSETTO:+0000
TZNAME:UTC
DTSTART:20240101T000000
END:STANDARD
END:VTIMEZONE
BEGIN:VEVENT
DTSTART;TZID=UTC:20250209T100000
DTEND;TZID=UTC:20250209T120000
DTSTAMP:20260425T175828
CREATED:20240926T035313Z
LAST-MODIFIED:20240926T035313Z
UID:2474-1739095200-1739102400@emmausmarket.com
SUMMARY:Winter Market #8
DESCRIPTION:Winter Market outdoors at the Triangle! \n2nd & 4th Sundays January-April \nRain OR Shine \n10 AM – 12 PM
URL:https://emmausmarket.com/event/winter-market-8-4/
LOCATION:Triangle Park\, Triangle Park\, Emmaus\, PA\, 18049\, United States
END:VEVENT
BEGIN:VEVENT
DTSTART;TZID=UTC:20250223T100000
DTEND;TZID=UTC:20250223T120000
DTSTAMP:20260425T175828
CREATED:20240926T035347Z
LAST-MODIFIED:20240926T035347Z
UID:2476-1740304800-1740312000@emmausmarket.com
SUMMARY:Winter Market #9
DESCRIPTION:Winter Market outdoors at the Triangle! \n2nd & 4th Sundays January-April \nRain OR Shine \n10 AM – 12 PM
URL:https://emmausmarket.com/event/winter-market-9-3/
LOCATION:Triangle Park\, Triangle Park\, Emmaus\, PA\, 18049\, United States
END:VEVENT
END:VCALENDAR