BEGIN:VCALENDAR
VERSION:2.0
PRODID:-//Emmaus Farmers&#039; Market - ECPv6.15.20//NONSGML v1.0//EN
CALSCALE:GREGORIAN
METHOD:PUBLISH
X-ORIGINAL-URL:https://emmausmarket.com
X-WR-CALDESC:Events for Emmaus Farmers&#039; Market
REFRESH-INTERVAL;VALUE=DURATION:PT1H
X-Robots-Tag:noindex
X-PUBLISHED-TTL:PT1H
BEGIN:VTIMEZONE
TZID:UTC
BEGIN:STANDARD
TZOFFSETFROM:+0000
TZOFFSETTO:+0000
TZNAME:UTC
DTSTART:20240101T000000
END:STANDARD
END:VTIMEZONE
BEGIN:VEVENT
DTSTART;TZID=UTC:20251209T180000
DTEND;TZID=UTC:20251209T200000
DTSTAMP:20260425T033025
CREATED:20250304T003021Z
LAST-MODIFIED:20250318T030400Z
UID:2528-1765303200-1765310400@emmausmarket.com
SUMMARY:Vendor Meeting #3
DESCRIPTION:Market Board & Vendor meeting 6pm – 8pm \n***NEW LOCATION*** \n905 Harrison Street\, Allentown\, PA. 18103 SUITE 120 \nIf you would like to apply to join the upcoming regular season please visit our Contact Page to first read our Bylaws and Rules & Regulations. If after reading you are interested in an application\, please email info@emmausmaket.com confirming you have read all market details and we will be in touch. Per our Bylaws\, potential vendors may apply up to 2 weeks before scheduled meetings. Deadline is:  NOVEMBER 25TH
URL:https://emmausmarket.com/event/vendor-meeting-4-2/
LOCATION:PA
END:VEVENT
END:VCALENDAR